Workbook

Sheet Instructions
B2: TEMPLATE AND BUDGET DEVELOPMENT INSTRUCTIONS
B3: Annual Budget and Budget Justification Development Templates, Helpful Hints
B4: Most grant types only allow a maximum of 3 years per grant. However, there are a couple that allow up to five years. Only use the templates for the number of years the grant allows and your project needs. You can delete the extra sheets.
B5: Budget Templates
A6: 1 | B6: The worksheet has five annual budget templates that contain formulas. There are also five annual budget justification templates and five SF 424As. The Category/Item Description column will automatically populate with the data that is entered into the cells in the category column in the corresponding annual budget sheet. This assists with being consistent with terminology in the budget documents. You must verify that what you typing in the annual budget Category/Item Description column is the same as what is in the project narrative and OWP. The budget will automatically transfer to the SF 424A.
A7: Hint | B7: Fill out Column B of each of the annual budget sheets before working on the justification sheets. Be sure to verify that what you typing in the annual budget Category/Item Description column (Column B) is the same as what is in the project narrative and OWP.
B8: Use Complete and Accurate Calculations
A9: 2 | B9: Gather all the necessary information you'll need prior to starting work on the budget (e.g., positions, wages, fringe calculations, supplies needed).
B10: Editing the Budget or Budget Justification Sheets
A11: 3 | B11: Remember there are formulas in the budget justification sheets that pull information from Column B of the corressponding budget sheet. If you add or delete rows, it may impact the corresponding sheet. If you delete a row in the budget, make sure to delete the corresponding row in the budget justification. ● If you add a row in the budget, you will have to add a row at the same position in the budget justification and copy formulas. ● To copy formulas, select the cell in Column B directly above the new row. Highlight the formula and press "CTRL" key + "C" key. Now select the new cell in Column B and press "CTRL" key + "V" key. If the formula was copied correctly, whatever you type in Column B in the annual budget sheet should appear in Column B of the corresponsding budget justification.
A12: Hint | B12: Double check that numbers are added correctly as adding and deleting cells, rows or columns can create an error in the formulas in the worksheet.
A14: Instructions on costs and their category are contained in the following:
B15: 1. PERSONNEL
B16: Identify the project director or principal investigator, if known at the time of the application. For each staff person, provide: the title; time commitment to the project in months; time commitment to the project as a percentage or full-time equivalent; annual salary; grant salary; wage rates; etc. Do not include the costs of consultants, personnel costs of delegate agencies, or of specific project(s) and/or businesses to be financed by the applicant. Contractors and consultants should not be placed under this category.
B17: 2. FRINGE BENEFITS
B18: Costs of employee fringe benefits unless treated as part of an approved indirect cost rate. Provide a breakdown of the amounts and percentages that comprise fringe benefit costs such as health insurance, Federal Insurance Contributions Act (FICA) taxes, retirement insurance, and taxes.
B19: 3. TRAVEL
B20: Costs of out-of-state or overnight project-related travel by employees of the applicant organization. Do not include in-state travel or consultant travel in the Travel category but in the Other category. For each trip, show the total number of traveler(s); travel destination; duration of trip; per diem; mileage allowances, if privately owned vehicles will be used to travel out of town; and other transportation costs and subsistence allowances. If appropriate for the project, travel cost for key project staff to attend ACF-sponsored workshops/conferences/grantee orientation should be detailed in the budget.
B21: 4. EQUIPMENT
B22: Equipment means an article of nonexpendable, tangible personal property having a useful life of more than one year per unit and an acquisition cost that equals or exceeds the lesser of: (a) the capitalization level established by the organization for the financial statement purposes, or (b) $5,000
B23: 5. SUPPLIES
B24: Costs of all tangible personal property other than that included under the Equipment category. This includes office and other consumable supplies with a per-unit cost of less than $5,000.
B25: 6. CONTRACTUAL
B26: Include third-party evaluation contracts, if applicable, and contracts with secondary recipient organizations (with budget detail), including delegate agencies and specific project(s) and/or businesses to be financed by the applicant. This area is not for individual consultants.
... B33: Although you will only need the SF 424A for the budget period that the application is addressing, there are five worksheets for each potential budget period. You will need to fill in Section C for the source of the non-federal funds. Also, the default for Section D for the forecasted cash needs is 25% each quarter, you will want to adjust based on the project's cash needs.

Sheet Bud Year 1
A1: Tribe/Organization Name | D1: 9 Months
A2: EMI BUDGET YEAR ONE | B2: 9/30/2021 to 6/30/2022
A3: CATEGORY/ITEM DESCRIPTION | B3: Federal Share | C3: Non-Federal Share | D3: Total
A4: PERSONNEL | B4: Full and Part time employees only
A5: Insert title and percentage of time | B5: 0 | C5: 0 | D5: =B5+C5 -> 0
A6: Insert title and percentage of time | B6: 0 | C6: 0 | D6: =B6+C6 -> 0
A7: Insert title and percentage of time | B7: 0 | C7: 0 | D7: =B7+C7 -> 0
A8: Insert title and percentage of time | B8: 0 | C8: 0 | D8: =B8+C8 -> 0
A9: TOTAL PERSONNEL | B9: =SUM(B5:B8) -> 0 | C9: =SUM(C5:C8) -> 0 | D9: =SUM(D5:D8) -> 0
A10: FRINGE BENEFITS | B10: Benefits for full and part-time employees, individual rate may differ
A11: FICA @ 7.65% | B11: 0 | C11: 0 | D11: =B11+C11 -> 0
A12: FUTA @ .00% | B12: 0 | C12: 0 | D12: =B12+C12 -> 0
A13: SUTA @ .00% | B13: 0 | C13: 0 | D13: =B13+C13 -> 0
A14: Health Insurance @ 00% | B14: 0 | C14: 0 | D14: =B14+C14 -> 0
A15: Retirement @ 00% | B15: 0 | C15: 0 | D15: =B15+C15 -> 0
A16: Workman's Comp. @ 00% | B16: 0 | C16: 0 | D16: =B16+C16 -> 0
A17: TOTAL FRINGE BENEFITS | B17: =SUM(B11:B16) -> 0 | C17: =SUM(C11:C16) -> 0 | D17: =SUM(D11:D16) -> 0
A18: TRAVEL | B18: Employee/staff overnight travel only, not for local mileage
A19: Post Award Training - 2 people | B19: 0 | C19: 0 | D19: =B19+C19 -> 0
A20: ANA Grantee Meeting - 2 people | B20: 0 | C20: 0 | D20: =B20+C20 -> 0
A21: Insert any other project staff travel | B21: 0 | C21: 0 | D21: =B21+C21 -> 0
A22: TOTAL TRAVEL | B22: =SUM(B19:B21) -> 0 | C22: =SUM(C19:C21) -> 0 | D22: =SUM(D19:D21) -> 0
A23: EQUIPMENT | B23: Usable life of a year and unit capital cost in excess of $5,000
A24: Insert name of equipment | B24: 0 | C24: 0 | D24: =B24+C24 -> 0
A25: Insert name of equipment | B25: 0 | C25: 0 | D25: =B25+C25 -> 0
A26: TOTAL EQUIPMENT | B26: =SUM(B24:B25) -> 0 | C26: =SUM(C24:C25) -> 0 | D26: =SUM(D24:D25) -> 0
A27: SUPPLIES | B27: Less than $5,000 per unit
A28: Insert name of type of supply | B28: 0 | C28: 0 | D28: =B28+C28 -> 0
A29: Insert name of type of supply | B29: 0 | C29: 0 | D29: =B29+C29 -> 0
A30: TOTAL SUPPLIES | B30: =SUM(B28:B29) -> 0 | C30: =SUM(C28:C29) -> 0 | D30: =SUM(D28:D29) -> 0
A31: CONTRACTUAL | B31: Generally for contracts $250,000 or more
A32: Insert name of type of contract | B32: 0 | C32: 0 | D32: =B32+C32 -> 0
A33: Insert name of type of contract | B33: 0 | C33: 0 | D33: =B33+C33 -> 0
A34: TOTAL CONTRACTUAL | B34: =SUM(B32:B33) -> 0 | C34: =SUM(C32:C33) -> 0 | D34: =SUM(D32:D33) -> 0
A35: OTHER | B35: All other costs not list in categories above
A36: Insert name of "Other" budget item | B36: 0 | C36: 0 | D36: =B36+C36 -> 0
A37: Insert name of "Other" budget item | B37: 0 | C37: 0 | D37: =B37+C37 -> 0
A38: Insert name of "Other" budget item | B38: 0 | C38: 0 | D38: =B38+C38 -> 0
A39: Insert name of "Other" budget item | B39: 0 | C39: 0 | D39: =B39+C39 -> 0
A40: Insert name of "Other" budget item | B40: 0 | C40: 0 | D40: =B40+C40 -> 0
...

Sheet Bud Year 2
A1: Tribe/Organization Name | D1: 12 months
A2: EMI BUDGET YEAR TWO | B2: 7/1/2022-6/30/2023
A3: CATEGORY/ITEM DESCRIPTION | B3: Federal Share | C3: Non-Federal Share | D3: Total
A4: PERSONNEL | B4: Full and Part time employees only
A5: Insert title and percentage of time | B5: 0 | C5: 0 | D5: =B5+C5 -> 0
A6: Insert title and percentage of time | B6: 0 | C6: 0 | D6: =B6+C6 -> 0
A7: Insert title and percentage of time | B7: 0 | C7: 0 | D7: =B7+C7 -> 0
A8: Insert title and percentage of time | B8: 0 | C8: 0 | D8: =B8+C8 -> 0
A9: TOTAL PERSONNEL | B9: =SUM(B5:B8) -> 0 | C9: =SUM(C5:C8) -> 0 | D9: =SUM(D5:D8) -> 0
A10: FRINGE BENEFITS | B10: Benefits for full and part-time employees, individual rate may differ
A11: FICA @ 7.65% | B11: 0 | C11: 0 | D11: =B11+C11 -> 0
A12: FUTA @ .00% | B12: 0 | C12: 0 | D12: =B12+C12 -> 0
A13: SUTA @ .00% | B13: 0 | C13: 0 | D13: =B13+C13 -> 0
A14: Health Insurance @ 00% | B14: 0 | C14: 0 | D14: =B14+C14 -> 0
A15: Retirement @ 00% | B15: 0 | C15: 0 | D15: =B15+C15 -> 0
A16: Workman's Comp. @ 00% | B16: 0 | C16: 0 | D16: =B16+C16 -> 0
A17: TOTAL FRINGE BENEFITS | B17: =SUM(B11:B16) -> 0 | C17: =SUM(C11:C16) -> 0 | D17: =SUM(D11:D16) -> 0
A18: TRAVEL | B18: Employee/staff overnight travel only, not for local mileage
A19: ANA Grantee Meeting - 2 people | B19: 0 | C19: 0 | D19: =B19+C19 -> 0
A20: Insert any other project staff travel | B20: 0 | C20: 0 | D20: =B20+C20 -> 0
A21: Insert any other project staff travel | B21: 0 | C21: 0 | D21: =B21+C21 -> 0
A22: TOTAL TRAVEL | B22: =SUM(B19:B21) -> 0 | C22: =SUM(C19:C21) -> 0 | D22: =SUM(D19:D21) -> 0
A23: EQUIPMENT | B23: Usable life of a year and unit capital cost in excess of $5,000
A24: Insert name of equipment | B24: 0 | C24: 0 | D24: =B24+C24 -> 0
A25: Insert name of equipment | B25: 0 | C25: 0 | D25: =B25+C25 -> 0
A26: TOTAL EQUIPMENT | B26: =SUM(B24:B25) -> 0 | C26: =SUM(C24:C25) -> 0 | D26: =SUM(D24:D25) -> 0
A27: SUPPLIES | B27: Less than $5,000 per unit
A28: Insert name of type of supply | B28: 0 | C28: 0 | D28: =B28+C28 -> 0
A29: Insert name of type of supply | B29: 0 | C29: 0 | D29: =B29+C29 -> 0
A30: TOTAL SUPPLIES | B30: =SUM(B28:B29) -> 0 | C30: =SUM(C28:C29) -> 0 | D30: =SUM(D28:D29) -> 0
A31: CONTRACTUAL | B31: Generally for contracts $250,000 or more
A32: Insert name of type of contract | B32: 0 | C32: 0 | D32: =B32+C32 -> 0
A33: Insert name of type of contract | B33: 0 | C33: 0 | D33: =B33+C33 -> 0
A34: TOTAL CONTRACTUAL | B34: =SUM(B32:B33) -> 0 | C34: =SUM(C32:C33) -> 0 | D34: =SUM(D32:D33) -> 0
A35: OTHER | B35: All other costs not list in categories above
A36: Insert name of "Other" budget item | B36: 0 | C36: 0 | D36: =B36+C36 -> 0
A37: Insert name of "Other" budget item | B37: 0 | C37: 0 | D37: =B37+C37 -> 0
A38: Insert name of "Other" budget item | B38: 0 | C38: 0 | D38: =B38+C38 -> 0
A39: Insert name of "Other" budget item | B39: 0 | C39: 0 | D39: =B39+C39 -> 0
A40: Insert name of "Other" budget item | B40: 0 | C40: 0 | D40: =B40+C40 -> 0
...

Sheet Bud Year 3
A1: Tribe/Organization Name | D1: 12 Months
A2: EMI BUDGET YEAR THREE | B2: 7/1/2023 to 6/30/2024
A3: CATEGORY/ITEM DESCRIPTION | B3: Federal Share | C3: Non-Federal Share | D3: Total
A4: PERSONNEL | B4: Full and Part time employees only
A5: Insert title and percentage of time | B5: 0 | C5: 0 | D5: =B5+C5 -> 0
A6: Insert title and percentage of time | B6: 0 | C6: 0 | D6: =B6+C6 -> 0
A7: Insert title and percentage of time | B7: 0 | C7: 0 | D7: =B7+C7 -> 0
A8: Insert title and percentage of time | B8: 0 | C8: 0 | D8: =B8+C8 -> 0
A9: TOTAL PERSONNEL | B9: =SUM(B5:B8) -> 0 | C9: =SUM(C5:C8) -> 0 | D9: =SUM(D5:D8) -> 0
A10: FRINGE BENEFITS | B10: Benefits for full and part-time employees, individual rate may differ
A11: FICA @ 7.65% | B11: 0 | C11: 0 | D11: =B11+C11 -> 0
A12: FUTA @ .00% | B12: 0 | C12: 0 | D12: =B12+C12 -> 0
A13: SUTA @ .00% | B13: 0 | C13: 0 | D13: =B13+C13 -> 0
A14: Health Insurance @ 00% | B14: 0 | C14: 0 | D14: =B14+C14 -> 0
A15: Retirement @ 00% | B15: 0 | C15: 0 | D15: =B15+C15 -> 0
A16: Workman's Comp. @ 00% | B16: 0 | C16: 0 | D16: =B16+C16 -> 0
A17: TOTAL FRINGE BENEFITS | B17: =SUM(B11:B16) -> 0 | C17: =SUM(C11:C16) -> 0 | D17: =SUM(D11:D16) -> 0
A18: TRAVEL | B18: Employee/staff overnight travel only, not for local mileage
A19: ANA Grantee Meeting - 2 people | B19: 0 | C19: 0 | D19: =B19+C19 -> 0
A20: Insert any other project staff travel | B20: 0 | C20: 0 | D20: =B20+C20 -> 0
A21: Insert any other project staff travel | B21: 0 | C21: 0 | D21: =B21+C21 -> 0
A22: TOTAL TRAVEL | B22: =SUM(B19:B21) -> 0 | C22: =SUM(C19:C21) -> 0 | D22: =SUM(D19:D21) -> 0
A23: EQUIPMENT | B23: Usable life of a year and unit capital cost in excess of $5,000
A24: Insert name of equipment | B24: 0 | C24: 0 | D24: =B24+C24 -> 0
A25: Insert name of equipment | B25: 0 | C25: 0 | D25: =B25+C25 -> 0
A26: TOTAL EQUIPMENT | B26: =SUM(B24:B25) -> 0 | C26: =SUM(C24:C25) -> 0 | D26: =SUM(D24:D25) -> 0
A27: SUPPLIES | B27: Less than $5,000 per unit
A28: Insert name of type of supply | B28: 0 | C28: 0 | D28: =B28+C28 -> 0
A29: Insert name of type of supply | B29: 0 | C29: 0 | D29: =B29+C29 -> 0
A30: TOTAL SUPPLIES | B30: =SUM(B28:B29) -> 0 | C30: =SUM(C28:C29) -> 0 | D30: =SUM(D28:D29) -> 0
A31: CONTRACTUAL | B31: Generally for contracts $250,000 or more
A32: Insert name of type of contract | B32: 0 | C32: 0 | D32: =B32+C32 -> 0
A33: Insert name of type of contract | B33: 0 | C33: 0 | D33: =B33+C33 -> 0
A34: TOTAL CONTRACTUAL | B34: =SUM(B32:B33) -> 0 | C34: =SUM(C32:C33) -> 0 | D34: =SUM(D32:D33) -> 0
A35: OTHER | B35: All other costs not list in categories above
A36: Insert name of "Other" budget item | B36: 0 | C36: 0 | D36: =B36+C36 -> 0
A37: Insert name of "Other" budget item | B37: 0 | C37: 0 | D37: =B37+C37 -> 0
A38: Insert name of "Other" budget item | B38: 0 | C38: 0 | D38: =B38+C38 -> 0
A39: Insert name of "Other" budget item | B39: 0 | C39: 0 | D39: =B39+C39 -> 0
A40: Insert name of "Other" budget item | B40: 0 | C40: 0 | D40: =B40+C40 -> 0
...

Sheet Bud Year 4
A1: Tribe/Organization Name | D1: 12 Months
A2: EMI BUDGET YEAR FOUR | B2: 7/1/2024 to 6/30/2025
A3: CATEGORY/ITEM DESCRIPTION | B3: Federal Share | C3: Non-Federal Share | D3: Total
A4: PERSONNEL | B4: Full and Part time employees only
A5: Insert title and percentage of time | B5: 0 | C5: 0 | D5: =B5+C5 -> 0
A6: Insert title and percentage of time | B6: 0 | C6: 0 | D6: =B6+C6 -> 0
A7: Insert title and percentage of time | B7: 0 | C7: 0 | D7: =B7+C7 -> 0
A8: Insert title and percentage of time | B8: 0 | C8: 0 | D8: =B8+C8 -> 0
A9: TOTAL PERSONNEL | B9: =SUM(B5:B8) -> 0 | C9: =SUM(C5:C8) -> 0 | D9: =SUM(D5:D8) -> 0
A10: FRINGE BENEFITS | B10: Benefits for full and part-time employees, individual rate may differ
A11: FICA @ 7.65% | B11: 0 | C11: 0 | D11: =B11+C11 -> 0
A12: FUTA @ .00% | B12: 0 | C12: 0 | D12: =B12+C12 -> 0
A13: SUTA @ .00% | B13: 0 | C13: 0 | D13: =B13+C13 -> 0
A14: Health Insurance @ 00% | B14: 0 | C14: 0 | D14: =B14+C14 -> 0
A15: Retirement @ 00% | B15: 0 | C15: 0 | D15: =B15+C15 -> 0
A16: Workman's Comp. @ 00% | B16: 0 | C16: 0 | D16: =B16+C16 -> 0
A17: TOTAL FRINGE BENEFITS | B17: =SUM(B11:B16) -> 0 | C17: =SUM(C11:C16) -> 0 | D17: =SUM(D11:D16) -> 0
A18: TRAVEL | B18: Employee/staff overnight travel only, not for local mileage
A19: ANA Grantee Meeting - 2 people | B19: 0 | C19: 0 | D19: =B19+C19 -> 0
A20: Insert any other project staff travel | B20: 0 | C20: 0 | D20: =B20+C20 -> 0
A21: Insert any other project staff travel | B21: 0 | C21: 0 | D21: =B21+C21 -> 0
A22: TOTAL TRAVEL | B22: =SUM(B19:B21) -> 0 | C22: =SUM(C19:C21) -> 0 | D22: =SUM(D19:D21) -> 0
A23: EQUIPMENT | B23: Usable life of a year and unit capital cost in excess of $5,000
A24: Insert name of equipment | B24: 0 | C24: 0 | D24: =B24+C24 -> 0
A25: Insert name of equipment | B25: 0 | C25: 0 | D25: =B25+C25 -> 0
A26: TOTAL EQUIPMENT | B26: =SUM(B24:B25) -> 0 | C26: =SUM(C24:C25) -> 0 | D26: =SUM(D24:D25) -> 0
A27: SUPPLIES | B27: Less than $5,000 per unit
A28: Insert name of type of supply | B28: 0 | C28: 0 | D28: =B28+C28 -> 0
A29: Insert name of type of supply | B29: 0 | C29: 0 | D29: =B29+C29 -> 0
A30: TOTAL SUPPLIES | B30: =SUM(B28:B29) -> 0 | C30: =SUM(C28:C29) -> 0 | D30: =SUM(D28:D29) -> 0
A31: CONTRACTUAL | B31: Generally for contracts $250,000 or more
A32: Insert name of type of contract | B32: 0 | C32: 0 | D32: =B32+C32 -> 0
A33: Insert name of type of contract | B33: 0 | C33: 0 | D33: =B33+C33 -> 0
A34: TOTAL CONTRACTUAL | B34: =SUM(B32:B33) -> 0 | C34: =SUM(C32:C33) -> 0 | D34: =SUM(D32:D33) -> 0
A35: OTHER | B35: All other costs not list in categories above
A36: Insert name of "Other" budget item | B36: 0 | C36: 0 | D36: =B36+C36 -> 0
A37: Insert name of "Other" budget item | B37: 0 | C37: 0 | D37: =B37+C37 -> 0
A38: Insert name of "Other" budget item | B38: 0 | C38: 0 | D38: =B38+C38 -> 0
A39: Insert name of "Other" budget item | B39: 0 | C39: 0 | D39: =B39+C39 -> 0
A40: Insert name of "Other" budget item | B40: 0 | C40: 0 | D40: =B40+C40 -> 0
...

Sheet Bud Year 5
A1: Tribe/Organization Name | D1: 12 Months
A2: EMI BUDGET YEAR FIVE | B2: 7/1/2025-6/30/2026
A3: CATEGORY/ITEM DESCRIPTION | B3: Federal Share | C3: Non-Federal Share | D3: Total
A4: PERSONNEL | B4: Full and Part time employees only
A5: Insert title and percentage of time | B5: 0 | C5: 0 | D5: =B5+C5 -> 0
A6: Insert title and percentage of time | B6: 0 | C6: 0 | D6: =B6+C6 -> 0
A7: Insert title and percentage of time | B7: 0 | C7: 0 | D7: =B7+C7 -> 0
A8: Insert title and percentage of time | B8: 0 | C8: 0 | D8: =B8+C8 -> 0
A9: TOTAL PERSONNEL | B9: =SUM(B5:B8) -> 0 | C9: =SUM(C5:C8) -> 0 | D9: =SUM(D5:D8) -> 0
A10: FRINGE BENEFITS | B10: Benefits for full and part-time employees, individual rate may differ
A11: FICA @ 7.65% | B11: 0 | C11: 0 | D11: =B11+C11 -> 0
A12: FUTA @ .00% | B12: 0 | C12: 0 | D12: =B12+C12 -> 0
A13: SUTA @ .00% | B13: 0 | C13: 0 | D13: =B13+C13 -> 0
A14: Health Insurance @ 00% | B14: 0 | C14: 0 | D14: =B14+C14 -> 0
A15: Retirement @ 00% | B15: 0 | C15: 0 | D15: =B15+C15 -> 0
A16: Workman's Comp. @ 00% | B16: 0 | C16: 0 | D16: =B16+C16 -> 0
A17: TOTAL FRINGE BENEFITS | B17: =SUM(B11:B16) -> 0 | C17: =SUM(C11:C16) -> 0 | D17: =SUM(D11:D16) -> 0
A18: TRAVEL | B18: Employee/staff overnight travel only, not for local mileage
A19: ANA Grantee Meeting - 2 people | B19: 0 | C19: 0 | D19: =B19+C19 -> 0
A20: Insert any other project staff travel | B20: 0 | C20: 0 | D20: =B20+C20 -> 0
A21: Insert any other project staff travel | B21: 0 | C21: 0 | D21: =B21+C21 -> 0
A22: TOTAL TRAVEL | B22: =SUM(B19:B21) -> 0 | C22: =SUM(C19:C21) -> 0 | D22: =SUM(D19:D21) -> 0
A23: EQUIPMENT | B23: Usable life of a year and unit capital cost in excess of $5,000
A24: Insert name of equipment | B24: 0 | C24: 0 | D24: =B24+C24 -> 0
A25: Insert name of equipment | B25: 0 | C25: 0 | D25: =B25+C25 -> 0
A26: TOTAL EQUIPMENT | B26: =SUM(B24:B25) -> 0 | C26: =SUM(C24:C25) -> 0 | D26: =SUM(D24:D25) -> 0
A27: SUPPLIES | B27: Less than $5,000 per unit
A28: Insert name of type of supply | B28: 0 | C28: 0 | D28: =B28+C28 -> 0
A29: Insert name of type of supply | B29: 0 | C29: 0 | D29: =B29+C29 -> 0
A30: TOTAL SUPPLIES | B30: =SUM(B28:B29) -> 0 | C30: =SUM(C28:C29) -> 0 | D30: =SUM(D28:D29) -> 0
A31: CONTRACTUAL | B31: Generally for contracts $250,000 or more
A32: Insert name of type of contract | B32: 0 | C32: 0 | D32: =B32+C32 -> 0
A33: Insert name of type of contract | B33: 0 | C33: 0 | D33: =B33+C33 -> 0
A34: TOTAL CONTRACTUAL | B34: =SUM(B32:B33) -> 0 | C34: =SUM(C32:C33) -> 0 | D34: =SUM(D32:D33) -> 0
A35: OTHER | B35: All other costs not list in categories above
A36: Insert name of "Other" budget item | B36: 0 | C36: 0 | D36: =B36+C36 -> 0
A37: Insert name of "Other" budget item | B37: 0 | C37: 0 | D37: =B37+C37 -> 0
A38: Insert name of "Other" budget item | B38: 0 | C38: 0 | D38: =B38+C38 -> 0
A39: Insert name of "Other" budget item | B39: 0 | C39: 0 | D39: =B39+C39 -> 0
A40: Insert name of "Other" budget item | B40: 0 | C40: 0 | D40: =B40+C40 -> 0
...

Sheet Bud Just 1
B1: ='Bud Year 1'!A1 -> Tribe/Organization Name
B2: ='Bud Year 1'!A2 -> EMI BUDGET YEAR ONE
A3: CATEGORY/ITEM DESCRIPTION | B3: Federal Share | C3: Non-Federal Share | D3: CALCULATION AND JUSTIFICATION
A4: PERSONNEL | B4: ='Bud Year 1'!B9 -> 0 | C4: ='Bud Year 1'!C9 -> 0 | D4: Explain calculation of salary for each position and their project responsibility
A5: ='Bud Year 1'!A5 -> Insert title and percentage of time | B5: Describe salary calculation and project responsiblities
A6: ='Bud Year 1'!A6 -> Insert title and percentage of time | B6: Describe salary calculation and project responsiblities
A7: ='Bud Year 1'!A7 -> Insert title and percentage of time | B7: Describe salary calculation and project responsiblities
A8: ='Bud Year 1'!A8 -> Insert title and percentage of time | B8: Describe salary calculation and project responsiblities
A9: FRINGE BENEFITS | B9: ='Bud Year 1'!B17 -> 0 | C9: ='Bud Year 1'!C17 -> 0 | D9: Describe the benefits given and differences based on type of employee
A10: FICA @ 7.65% | B10: Describe the benefit and who is entitled to receive the benefit
A11: FUTA @ .00% | B11: Describe the benefit and who is entitled to receive the benefit
A12: SUTA @ .00% | B12: Describe the benefit and who is entitled to receive the benefit
A13: Health Insurance @ 00% | B13: Describe the benefit and who is entitled to receive the benefit
A14: Retirement @ 00% | B14: Describe the benefit and who is entitled to receive the benefit
A15: Workman's Comp. @ 00% | B15: Describe the benefit and who is entitled to receive the benefit
A16: TRAVEL | B16: ='Bud Year 1'!B22 -> 0 | C16: ='Bud Year 1'!C22 -> 0 | D16: Describe employee travel
A17: Post Award Training - 2 people | B17: Describe need for project completion and break out individual travel costs
A18: ANA Grantee Meeting - 2 people | B18: Describe need for project completion and break out individual travel costs
A19: ='Bud Year 1'!A21 -> Insert any other project staff travel | B19: Describe need for project completion and break out individual travel costs
A20: EQUIPMENT | B20: ='Bud Year 1'!B26 -> 0 | C20: ='Bud Year 1'!C26 -> 0 | D20: Describe equipment and need by project
A21: ='Bud Year 1'!A24 -> Insert name of equipment | B21: Describe why the project needs this equipment
A22: ='Bud Year 1'!A25 -> Insert name of equipment | B22: Describe why the project needs this equipment
A23: SUPPLIES | B23: ='Bud Year 1'!B30 -> 0 | C23: ='Bud Year 1'!C30 -> 0 | D23: Describe supplies to be purchase and need by project
A24: ='Bud Year 1'!A28 -> Insert name of type of supply | B24: Describe supplies to be purchased and need by project
A25: ='Bud Year 1'!A29 -> Insert name of type of supply | B25: Describe supplies to be purchased and need by project
A26: CONTRACTUAL | B26: ='Bud Year 1'!B34 -> 0 | C26: ='Bud Year 1'!C34 -> 0 | D26: For large contract item not for lesser professional services
A27: ='Bud Year 1'!A32 -> Insert name of type of contract | B27: Describe cost calculation and why project needs this contractor
A28: ='Bud Year 1'!A33 -> Insert name of type of contract | B28: Describe cost calculation and why project needs this contractor
A29: OTHER | B29: ='Bud Year 1'!B51 -> 0 | C29: ='Bud Year 1'!C51 -> 0 | D29: Describe calculation of cost and why the item is needed
A30: ='Bud Year 1'!A36 -> Insert name of "Other" budget item | B30: Describe how the cost was determined and why the item is needed for the project
A31: ='Bud Year 1'!A37 -> Insert name of "Other" budget item | B31: Describe how the cost was determined and why the item is needed for the project
A32: ='Bud Year 1'!A38 -> Insert name of "Other" budget item | B32: Describe how the cost was determined and why the item is needed for the project
A33: ='Bud Year 1'!A39 -> Insert name of "Other" budget item | B33: Describe how the cost was determined and why the item is needed for the project
A34: ='Bud Year 1'!A40 -> Insert name of "Other" budget item | B34: Describe how the cost was determined and why the item is needed for the project
A35: ='Bud Year 1'!A41 -> Insert name of "Other" budget item | B35: Describe how the cost was determined and why the item is needed for the project
A36: ='Bud Year 1'!A42 -> Insert name of "Other" budget item | B36: Describe how the cost was determined and why the item is needed for the project
A37: ='Bud Year 1'!A43 -> Insert name of "Other" budget item | B37: Describe how the cost was determined and why the item is needed for the project
A38: ='Bud Year 1'!A44 -> Insert name of "Other" budget item | B38: Describe how the cost was determined and why the item is needed for the project
A39: ='Bud Year 1'!A45 -> Insert name of "Other" budget item | B39: Describe how the cost was determined and why the item is needed for the project
A40: ='Bud Year 1'!A46 -> Insert name of "Other" budget item | B40: Describe how the cost was determined and why the item is needed for the project
...

Sheet Bud Just 2
C1: ='Bud Year 2'!A1 -> Tribe/Organization Name
C2: ='Bud Year 2'!A2 -> EMI BUDGET YEAR TWO
A3: CATEGORY/ITEM DESCRIPTION | B3: Federal Share | C3: Non-Federal Share | D3: CALCULATION AND JUSTIFICATION
A4: PERSONNEL | B4: ='Bud Year 2'!B9 -> 0 | C4: ='Bud Year 2'!C9 -> 0 | D4: Explain calculation of salary for each position and position project responsibility
A5: ='Bud Year 2'!A5 -> Insert title and percentage of time | B5: Describe salary calculation and project responsiblities
A6: ='Bud Year 2'!A6 -> Insert title and percentage of time | B6: Describe salary calculation and project responsiblities
A7: ='Bud Year 2'!A7 -> Insert title and percentage of time | B7: Describe salary calculation and project responsiblities
A8: ='Bud Year 2'!A8 -> Insert title and percentage of time | B8: Describe salary calculation and project responsiblities
A9: FRINGE BENEFITS | B9: ='Bud Year 2'!B17 -> 0 | C9: ='Bud Year 2'!C17 -> 0 | D9: Describe the benefits given and differences based on type of employee
A10: FICA @ 7.65% | B10: Describe the benefit and who is entitled to receive the benefit
A11: FUTA @ .00% | B11: Describe the benefit and who is entitled to receive the benefit
A12: SUTA @ .00% | B12: Describe the benefit and who is entitled to receive the benefit
A13: Health Insurance @ 00% | B13: Describe the benefit and who is entitled to receive the benefit
A14: Retirement @ 00% | B14: Describe the benefit and who is entitled to receive the benefit
A15: Workman's Comp. @ 00% | B15: Describe the benefit and who is entitled to receive the benefit
A16: TRAVEL | B16: ='Bud Year 2'!B22 -> 0 | C16: ='Bud Year 2'!C22 -> 0 | D16: Describe employee travel
A17: Post Award Training - 2 people | B17: Describe need for project completion and break out individual travel costs
A18: ANA Grantee Meeting - 2 people | B18: Describe need for project completion and break out individual travel costs
A19: ='Bud Year 2'!A21 -> Insert any other project staff travel | B19: Describe need for project completion and break out individual travel costs
A20: EQUIPMENT | B20: ='Bud Year 2'!B26 -> 0 | C20: ='Bud Year 2'!C26 -> 0 | D20: Describe equipment and need by project
A21: ='Bud Year 2'!A24 -> Insert name of equipment | B21: Describe why the project needs this equipment
A22: ='Bud Year 2'!A25 -> Insert name of equipment | B22: Describe why the project needs this equipment
A23: SUPPLIES | B23: ='Bud Year 2'!B30 -> 0 | C23: ='Bud Year 2'!C30 -> 0 | D23: Describe supplies to be purchase and need by project
A24: ='Bud Year 2'!A28 -> Insert name of type of supply | B24: Describe supplies to be purchased and need by project
A25: ='Bud Year 2'!A29 -> Insert name of type of supply | B25: Describe supplies to be purchased and need by project
A26: CONTRACTUAL | B26: ='Bud Year 2'!B34 -> 0 | C26: ='Bud Year 2'!C34 -> 0 | D26: For large contract item not for lesser professional services
A27: ='Bud Year 2'!A32 -> Insert name of type of contract | B27: Describe cost calculation and why project needs this contractor
A28: ='Bud Year 2'!A33 -> Insert name of type of contract | B28: Describe cost calculation and why project needs this contractor
A29: OTHER | B29: ='Bud Year 2'!B51 -> 0 | C29: ='Bud Year 2'!C51 -> 0 | D29: Describe calculation of cost and why the item is needed
A30: ='Bud Year 2'!A36 -> Insert name of "Other" budget item | B30: Describe how the cost was determined and why the item is needed for the project
A31: ='Bud Year 2'!A37 -> Insert name of "Other" budget item | B31: Describe how the cost was determined and why the item is needed for the project
A32: ='Bud Year 2'!A38 -> Insert name of "Other" budget item | B32: Describe how the cost was determined and why the item is needed for the project
A33: ='Bud Year 2'!A39 -> Insert name of "Other" budget item | B33: Describe how the cost was determined and why the item is needed for the project
A34: ='Bud Year 2'!A40 -> Insert name of "Other" budget item | B34: Describe how the cost was determined and why the item is needed for the project
A35: ='Bud Year 2'!A41 -> Insert name of "Other" budget item | B35: Describe how the cost was determined and why the item is needed for the project
A36: ='Bud Year 2'!A42 -> Insert name of "Other" budget item | B36: Describe how the cost was determined and why the item is needed for the project
A37: ='Bud Year 2'!A43 -> Insert name of "Other" budget item | B37: Describe how the cost was determined and why the item is needed for the project
A38: ='Bud Year 2'!A44 -> Insert name of "Other" budget item | B38: Describe how the cost was determined and why the item is needed for the project
A39: ='Bud Year 2'!A45 -> Insert name of "Other" budget item | B39: Describe how the cost was determined and why the item is needed for the project
A40: ='Bud Year 2'!A46 -> Insert name of "Other" budget item | B40: Describe how the cost was determined and why the item is needed for the project
...

Sheet Bud Just 3
C1: ='Bud Year 3'!$A$1 -> Tribe/Organization Name
C2: ='Bud Year 2'!A2 -> EMI BUDGET YEAR TWO
A3: CATEGORY/ITEM DESCRIPTION | B3: Federal Share | C3: Non-Federal Share | D3: CALCULATION AND JUSTIFICATION
A4: PERSONNEL | B4: ='Bud Year 3'!B9 -> 0 | C4: ='Bud Year 3'!C9 -> 0 | D4: Explain calculation of salary for each position and position project responsibility
A5: ='Bud Year 3'!A5 -> Insert title and percentage of time | B5: Describe salary calculation and project responsiblities
A6: ='Bud Year 3'!A6 -> Insert title and percentage of time | B6: Describe salary calculation and project responsiblities
A7: ='Bud Year 3'!A7 -> Insert title and percentage of time | B7: Describe salary calculation and project responsiblities
A8: ='Bud Year 3'!A8 -> Insert title and percentage of time | B8: Describe salary calculation and project responsiblities
A9: FRINGE BENEFITS | B9: ='Bud Year 3'!B17 -> 0 | C9: ='Bud Year 3'!C17 -> 0 | D9: Describe the benefits given and differences based on type of employee
A10: FICA @ 7.65% | B10: Describe the benefit and who is entitled to receive the benefit
A11: FUTA @ .00% | B11: Describe the benefit and who is entitled to receive the benefit
A12: SUTA @ .00% | B12: Describe the benefit and who is entitled to receive the benefit
A13: Health Insurance @ 00% | B13: Describe the benefit and who is entitled to receive the benefit
A14: Retirement @ 00% | B14: Describe the benefit and who is entitled to receive the benefit
A15: Workman's Comp. @ 00% | B15: Describe the benefit and who is entitled to receive the benefit
A16: TRAVEL | B16: ='Bud Year 3'!B22 -> 0 | C16: ='Bud Year 3'!C22 -> 0 | D16: Describe employee travel
A17: Post Award Training - 2 people | B17: Describe need for project completion and break out individual travel costs
A18: ANA Grantee Meeting - 2 people | B18: Describe need for project completion and break out individual travel costs
A19: ='Bud Year 3'!A21 -> Insert any other project staff travel | B19: Describe need for project completion and break out individual travel costs
A20: EQUIPMENT | B20: ='Bud Year 3'!B26 -> 0 | C20: ='Bud Year 3'!C26 -> 0 | D20: Describe equipment and need by project
A21: ='Bud Year 3'!A24 -> Insert name of equipment | B21: Describe why the project needs this equipment
A22: ='Bud Year 3'!A25 -> Insert name of equipment | B22: Describe why the project needs this equipment
A23: SUPPLIES | B23: ='Bud Year 3'!B30 -> 0 | C23: ='Bud Year 3'!C30 -> 0 | D23: Describe supplies to be purchase and need by project
A24: ='Bud Year 3'!A28 -> Insert name of type of supply | B24: Describe supplies to be purchased and need by project
A25: ='Bud Year 3'!A29 -> Insert name of type of supply | B25: Describe supplies to be purchased and need by project
A26: CONTRACTUAL | B26: ='Bud Year 3'!B34 -> 0 | C26: ='Bud Year 3'!C34 -> 0 | D26: For large contract item not for lesser professional services
A27: ='Bud Year 3'!A32 -> Insert name of type of contract | B27: Describe cost calculation and why project needs this contractor
A28: ='Bud Year 3'!A33 -> Insert name of type of contract | B28: Describe cost calculation and why project needs this contractor
A29: OTHER | B29: ='Bud Year 3'!B51 -> 0 | C29: ='Bud Year 3'!C51 -> 0 | D29: Describe calculation of cost and why the item is needed
A30: ='Bud Year 3'!A36 -> Insert name of "Other" budget item | B30: Describe how the cost was determined and why the item is needed for the project
A31: ='Bud Year 3'!A37 -> Insert name of "Other" budget item | B31: Describe how the cost was determined and why the item is needed for the project
A32: ='Bud Year 3'!A38 -> Insert name of "Other" budget item | B32: Describe how the cost was determined and why the item is needed for the project
A33: ='Bud Year 3'!A39 -> Insert name of "Other" budget item | B33: Describe how the cost was determined and why the item is needed for the project
A34: ='Bud Year 3'!A40 -> Insert name of "Other" budget item | B34: Describe how the cost was determined and why the item is needed for the project
A35: ='Bud Year 3'!A41 -> Insert name of "Other" budget item | B35: Describe how the cost was determined and why the item is needed for the project
A36: ='Bud Year 3'!A42 -> Insert name of "Other" budget item | B36: Describe how the cost was determined and why the item is needed for the project
A37: ='Bud Year 3'!A43 -> Insert name of "Other" budget item | B37: Describe how the cost was determined and why the item is needed for the project
A38: ='Bud Year 3'!A44 -> Insert name of "Other" budget item | B38: Describe how the cost was determined and why the item is needed for the project
A39: ='Bud Year 3'!A45 -> Insert name of "Other" budget item | B39: Describe how the cost was determined and why the item is needed for the project
A40: ='Bud Year 3'!A46 -> Insert name of "Other" budget item | B40: Describe how the cost was determined and why the item is needed for the project
...

Sheet Bud Just 4
C1: ='Bud Year 4'!$A$1 -> Tribe/Organization Name
C2: ='Bud Year 4'!$A$2 -> EMI BUDGET YEAR FOUR
A3: CATEGORY/ITEM DESCRIPTION | B3: Federal Share | C3: Non-Federal Share | D3: CALCULATION AND JUSTIFICATION
A4: PERSONNEL | B4: ='Bud Year 4'!B9 -> 0 | C4: ='Bud Year 4'!C9 -> 0 | D4: Explain calculation of salary for each position and position project responsibility
A5: ='Bud Year 4'!A5 -> Insert title and percentage of time | B5: Describe salary calculation and project responsiblities
A6: ='Bud Year 4'!A6 -> Insert title and percentage of time | B6: Describe salary calculation and project responsiblities
A7: ='Bud Year 4'!A7 -> Insert title and percentage of time | B7: Describe salary calculation and project responsiblities
A8: ='Bud Year 4'!A8 -> Insert title and percentage of time | B8: Describe salary calculation and project responsiblities
A9: FRINGE BENEFITS | B9: ='Bud Year 4'!B17 -> 0 | C9: ='Bud Year 4'!C17 -> 0 | D9: Describe the benefits given and differences based on type of employee
A10: FICA @ 7.65% | B10: Describe the benefit and who is entitled to receive the benefit
A11: FUTA @ .00% | B11: Describe the benefit and who is entitled to receive the benefit
A12: SUTA @ .00% | B12: Describe the benefit and who is entitled to receive the benefit
A13: Health Insurance @ 00% | B13: Describe the benefit and who is entitled to receive the benefit
A14: Retirement @ 00% | B14: Describe the benefit and who is entitled to receive the benefit
A15: Workman's Comp. @ 00% | B15: Describe the benefit and who is entitled to receive the benefit
A16: TRAVEL | B16: ='Bud Year 4'!B22 -> 0 | C16: ='Bud Year 4'!C22 -> 0 | D16: Describe employee travel, break out costs of travel in this cell
A17: Post Award Training - 2 people | B17: Describe need for project completion and break out individual travel costs
A18: ANA Grantee Meeting - 2 people | B18: Describe need for project completion and break out individual travel costs
A19: ='Bud Year 4'!A21 -> Insert any other project staff travel | B19: Describe need for project completion and break out individual travel costs
A20: EQUIPMENT | B20: ='Bud Year 4'!B26 -> 0 | C20: ='Bud Year 4'!C26 -> 0 | D20: Describe equipment and need by project
A21: ='Bud Year 4'!A24 -> Insert name of equipment | B21: Describe why the project needs this equipment
A22: ='Bud Year 4'!A25 -> Insert name of equipment | B22: Describe why the project needs this equipment
A23: SUPPLIES | B23: ='Bud Year 4'!B30 -> 0 | C23: ='Bud Year 4'!C30 -> 0 | D23: Describe supplies to be purchase and need by project
A24: ='Bud Year 4'!A28 -> Insert name of type of supply | B24: Describe supplies to be purchased and need by project
A25: ='Bud Year 4'!A29 -> Insert name of type of supply | B25: Describe supplies to be purchased and need by project
A26: CONTRACTUAL | B26: ='Bud Year 4'!B34 -> 0 | C26: ='Bud Year 4'!C34 -> 0 | D26: For large contract item not for lesser professional services
A27: ='Bud Year 4'!A32 -> Insert name of type of contract | B27: Describe cost calculation and why project needs this contractor
A28: ='Bud Year 4'!A33 -> Insert name of type of contract | B28: Describe cost calculation and why project needs this contractor
A29: OTHER | B29: ='Bud Year 4'!B51 -> 0 | C29: ='Bud Year 4'!C51 -> 0 | D29: Describe calculation of cost and why the item is needed
A30: ='Bud Year 4'!A36 -> Insert name of "Other" budget item | B30: Describe how the cost was determined and why the item is needed for the project
A31: ='Bud Year 4'!A37 -> Insert name of "Other" budget item | B31: Describe how the cost was determined and why the item is needed for the project
A32: ='Bud Year 4'!A38 -> Insert name of "Other" budget item | B32: Describe how the cost was determined and why the item is needed for the project
A33: ='Bud Year 4'!A39 -> Insert name of "Other" budget item | B33: Describe how the cost was determined and why the item is needed for the project
A34: ='Bud Year 4'!A40 -> Insert name of "Other" budget item | B34: Describe how the cost was determined and why the item is needed for the project
A35: ='Bud Year 4'!A41 -> Insert name of "Other" budget item | B35: Describe how the cost was determined and why the item is needed for the project
A36: ='Bud Year 4'!A42 -> Insert name of "Other" budget item | B36: Describe how the cost was determined and why the item is needed for the project
A37: ='Bud Year 4'!A43 -> Insert name of "Other" budget item | B37: Describe how the cost was determined and why the item is needed for the project
A38: ='Bud Year 4'!A44 -> Insert name of "Other" budget item | B38: Describe how the cost was determined and why the item is needed for the project
A39: ='Bud Year 4'!A45 -> Insert name of "Other" budget item | B39: Describe how the cost was determined and why the item is needed for the project
A40: ='Bud Year 4'!A46 -> Insert name of "Other" budget item | B40: Describe how the cost was determined and why the item is needed for the project
...

Sheet Bud Just 5
C1: ='Bud Year 5'!$A$1 -> Tribe/Organization Name
C2: ='Bud Year 5'!$A$2 -> EMI BUDGET YEAR FIVE
A3: CATEGORY/ITEM DESCRIPTION | B3: Federal Share | C3: Non-Federal Share | D3: CALCULATION AND JUSTIFICATION
A4: PERSONNEL | B4: ='Bud Year 5'!B9 -> 0 | C4: ='Bud Year 5'!C9 -> 0 | D4: Explain calculation of salary for each position and position project responsibility
A5: ='Bud Year 5'!A5 -> Insert title and percentage of time | B5: Describe salary calculation and project responsiblities
A6: ='Bud Year 5'!A6 -> Insert title and percentage of time | B6: Describe salary calculation and project responsiblities
A7: ='Bud Year 5'!A7 -> Insert title and percentage of time | B7: Describe salary calculation and project responsiblities
A8: ='Bud Year 5'!A8 -> Insert title and percentage of time | B8: Describe salary calculation and project responsiblities
A9: FRINGE BENEFITS | B9: ='Bud Year 5'!B17 -> 0 | C9: ='Bud Year 5'!C17 -> 0 | D9: Describe the benefits given and differences based on type of employee
A10: FICA @ 7.65% | B10: Describe the benefit and who is entitled to receive the benefit
A11: FUTA @ .00% | B11: Describe the benefit and who is entitled to receive the benefit
A12: SUTA @ .00% | B12: Describe the benefit and who is entitled to receive the benefit
A13: Health Insurance @ 00% | B13: Describe the benefit and who is entitled to receive the benefit
A14: Retirement @ 00% | B14: Describe the benefit and who is entitled to receive the benefit
A15: Workman's Comp. @ 00% | B15: Describe the benefit and who is entitled to receive the benefit
A16: TRAVEL | B16: ='Bud Year 5'!B22 -> 0 | C16: ='Bud Year 5'!C22 -> 0 | D16: Describe employee travel, break out costs of travel in this cell
A17: Post Award Training - 2 people | B17: Describe need for project completion and break out individual travel costs
A18: ANA Grantee Meeting - 2 people | B18: Describe need for project completion and break out individual travel costs
A19: ='Bud Year 5'!A21 -> Insert any other project staff travel | B19: Describe need for project completion and break out individual travel costs
A20: EQUIPMENT | B20: ='Bud Year 5'!B26 -> 0 | C20: ='Bud Year 5'!C26 -> 0 | D20: Describe equipment and need by project
A21: ='Bud Year 5'!A24 -> Insert name of equipment | B21: Describe why the project needs this equipment
A22: ='Bud Year 5'!A25 -> Insert name of equipment | B22: Describe why the project needs this equipment
A23: SUPPLIES | B23: ='Bud Year 5'!B30 -> 0 | C23: ='Bud Year 5'!C30 -> 0 | D23: Describe supplies to be purchase and need by project
A24: ='Bud Year 5'!A28 -> Insert name of type of supply | B24: Describe supplies to be purchased and need by project
A25: ='Bud Year 5'!A29 -> Insert name of type of supply | B25: Describe supplies to be purchased and need by project
A26: CONTRACTUAL | B26: ='Bud Year 5'!B34 -> 0 | C26: ='Bud Year 5'!C34 -> 0 | D26: For large contract item not for lesser professional services
A27: ='Bud Year 5'!A32 -> Insert name of type of contract | B27: Describe cost calculation and why project needs this contractor
A28: ='Bud Year 5'!A33 -> Insert name of type of contract | B28: Describe cost calculation and why project needs this contractor
A29: OTHER | B29: ='Bud Year 5'!B51 -> 0 | C29: ='Bud Year 5'!C51 -> 0 | D29: Describe calculation of cost and why the item is needed
A30: ='Bud Year 5'!A36 -> Insert name of "Other" budget item | B30: Describe how the cost was determined and why the item is needed for the project
A31: ='Bud Year 5'!A37 -> Insert name of "Other" budget item | B31: Describe how the cost was determined and why the item is needed for the project
A32: ='Bud Year 5'!A38 -> Insert name of "Other" budget item | B32: Describe how the cost was determined and why the item is needed for the project
A33: ='Bud Year 5'!A39 -> Insert name of "Other" budget item | B33: Describe how the cost was determined and why the item is needed for the project
A34: ='Bud Year 5'!A40 -> Insert name of "Other" budget item | B34: Describe how the cost was determined and why the item is needed for the project
A35: ='Bud Year 5'!A41 -> Insert name of "Other" budget item | B35: Describe how the cost was determined and why the item is needed for the project
A36: ='Bud Year 5'!A42 -> Insert name of "Other" budget item | B36: Describe how the cost was determined and why the item is needed for the project
A37: ='Bud Year 5'!A43 -> Insert name of "Other" budget item | B37: Describe how the cost was determined and why the item is needed for the project
A38: ='Bud Year 5'!A44 -> Insert name of "Other" budget item | B38: Describe how the cost was determined and why the item is needed for the project
A39: ='Bud Year 5'!A45 -> Insert name of "Other" budget item | B39: Describe how the cost was determined and why the item is needed for the project
A40: ='Bud Year 5'!A46 -> Insert name of "Other" budget item | B40: Describe how the cost was determined and why the item is needed for the project
...

Sheet SF 424A Year 1
E1: BUDGET INFORMATION - Non-Construction Programs
E2: SECTION A - BUDGET SUMMARY
B3: Grant Program Function or Activity | C3: Catalog of Federal Domestic Assistance | D3: Estimated Unobligated Funds | F3: New or Revised Budget
C4: Number | D4: Federal | E4: Non-Federal | F4: Federal | G4: Non-Federal | H4: Total
B5: (a) | C5: (b) | D5: ( c) | E5: (d) | F5: ( e) | G5: (f) | H5: (g)
A6: 1. | B6: ANA | F6: ='Bud Year 1'!B54 -> 0 | H6: =SUM(D6:G6) -> 0
A7: 2. | G7: ='Bud Year 1'!C54 -> 0 | H7: =SUM(D7:G7) -> 0
A8: 3. | H8: =SUM(D8:G8) -> 0
A9: 4. | H9: =SUM(D9:G9) -> 0
A10: 5. | B10: Totals | D10: =SUM(D6:D9) -> 0 | E10: =SUM(E6:E9) -> 0 | F10: =SUM(F6:F9) -> 0 | G10: =SUM(G6:G9) -> 0 | H10: =SUM(D10:G10) -> 0
E12: SECTION B - BUDGET CATEGORIES
E13: GRANT PROGRAM, FUNCTION OR ACTIVITY
A14: 6. | B14: Object Class Categories | D14: Federal | E14: Non-Federal | H14: Total
D15: (1) | E15: (2) | F15: (3) | G15: (4) | H15: (5)
A16: a. | B16: Personnel | D16: ='Bud Year 1'!B9 -> 0 | E16: ='Bud Year 1'!C9 -> 0 | H16: =SUM(D16:G16) -> 0
A17: b. | B17: Fringe Benefits | D17: ='Bud Year 1'!B17 -> 0 | E17: ='Bud Year 1'!C17 -> 0 | H17: =SUM(D17:G17) -> 0
A18: c. | B18: Travel | D18: ='Bud Year 1'!B22 -> 0 | E18: ='Bud Year 1'!C22 -> 0 | H18: =SUM(D18:G18) -> 0
A19: d. | B19: Equipment | D19: ='Bud Year 1'!B26 -> 0 | E19: ='Bud Year 1'!C26 -> 0 | H19: =SUM(D19:G19) -> 0
A20: e. | B20: Supplies | D20: ='Bud Year 1'!B30 -> 0 | E20: ='Bud Year 1'!C30 -> 0 | H20: =SUM(D20:G20) -> 0
A21: f. | B21: Contractual | D21: ='Bud Year 1'!B34 -> 0 | E21: ='Bud Year 1'!C34 -> 0 | H21: =SUM(D21:G21) -> 0
A22: g. | B22: Construction | D22: 0 | E22: 0 | H22: =SUM(D22:G22) -> 0
A23: h. | B23: Other | D23: ='Bud Year 1'!B51 -> 0 | E23: ='Bud Year 1'!C51 -> 0 | H23: =SUM(D23:G23) -> 0
A24: i. | B24: Total Direct Charges (sum of 6a-6h) | D24: =SUM(D16:D23) -> 0 | E24: =SUM(E16:E23) -> 0 | H24: =SUM(D24:G24) -> 0
A25: j. | B25: Indirect Charges | D25: ='Bud Year 1'!B53 -> 0 | E25: ='Bud Year 1'!C53 -> 0 | H25: =SUM(D25:G25) -> 0
A26: k. | B26: TOTALS (sum of 6i and 6j) | D26: =D24+D25 -> 0 | E26: =E24+E25 -> 0 | H26: =SUM(D26:G26) -> 0
A28: 7. | B28: Program Income | H28: =SUM(D28:G28) -> 0
E30: SECTION C - NON-FEDERAL RESOURCES
B31: (a) Grant Program | D31: (b) Applicant | E31: ( c) State | F31: (d) Other Sources | H31: Total
A32: 8. | B32: ANA NFS | H32: =SUM(E32:G32) -> 0
A33: 9.
A34: 10.
A35: 11.
A36: 12. | B36: TOTAL (sum of 8-11) | D36: =SUM(D32:D35) -> 0 | E36: =SUM(E32:E35) -> 0 | F36: =SUM(F32:F35) -> 0 | H36: =SUM(E36:G36) -> 0
E38: SECTION D - FORECASTED CASH NEEDS
D39: Total for 1st Year | E39: 1st Quarter | F39: 2nd Quarter | G39: 3rd Quarter | H39: 4th Quarter
A40: 13. | B40: Federal | D40: ='Bud Year 1'!B54 -> 0 | E40: =D26*0.25 -> 0 | F40: =D26*0.25 -> 0 | G40: =D26*0.25 -> 0 | H40: =D26*0.25 -> 0
A41: 14. | B41: Non-Federal | D41: ='Bud Year 1'!C54 -> 0 | E41: =E26*0.25 -> 0 | F41: =E26*0.25 -> 0 | G41: =E26*0.25 -> 0 | H41: =E26*0.25 -> 0
A42: 15. | B42: TOTAL (sum of lines 13 and 14) | D42: =SUM(D40:D41) -> 0 | E42: =SUM(E40:E41) -> 0 | F42: =SUM(F40:F41) -> 0 | G42: =SUM(G40:G41) -> 0 | H42: =SUM(H40:H41) -> 0
C44: SECTION E - BUGET ESTIMATES OF FEDERAL FUNDS NEEDED FOR BALANCE OF THE PROJECT
B45: (a) Grant Program | F45: FUTURE FUNDING PERIODS (YEARS)
...

Sheet SF 424A Year 2
E1: BUDGET INFORMATION - Non-Construction Programs
E2: SECTION A - BUDGET SUMMARY
B3: Grant Program Function or Activity | C3: Catalog of Federal Domestic Assistance | D3: Estimated Unobligated Funds | F3: New or Revised Budget
C4: Number | D4: Federal | E4: Non-Federal | F4: Federal | G4: Non-Federal | H4: Total
B5: (a) | C5: (b) | D5: ( c) | E5: (d) | F5: ( e) | G5: (f) | H5: (g)
A6: 1. | B6: ANA | F6: ='Bud Year 2'!B54 -> 0 | H6: =SUM(D6:G6) -> 0
A7: 2. | G7: ='Bud Year 2'!C54 -> 0 | H7: =SUM(D7:G7) -> 0
A8: 3. | H8: =SUM(D8:G8) -> 0
A9: 4. | H9: =SUM(D9:G9) -> 0
A10: 5. | B10: Totals | D10: =SUM(D6:D9) -> 0 | E10: =SUM(E6:E9) -> 0 | F10: =SUM(F6:F9) -> 0 | G10: =SUM(G6:G9) -> 0 | H10: =SUM(D10:G10) -> 0
E12: SECTION B - BUDGET CATEGORIES
E13: GRANT PROGRAM, FUNCTION OR ACTIVITY
A14: 6. | B14: Object Class Categories | D14: Federal | E14: Non-Federal | H14: Total
D15: (1) | E15: (2) | F15: (3) | G15: (4) | H15: (5)
A16: a. | B16: Personnel | D16: ='Bud Year 2'!B9 -> 0 | E16: ='Bud Year 2'!C9 -> 0 | H16: =SUM(D16:G16) -> 0
A17: b. | B17: Fringe Benefits | D17: ='Bud Year 2'!B17 -> 0 | E17: ='Bud Year 2'!C17 -> 0 | H17: =SUM(D17:G17) -> 0
A18: c. | B18: Travel | D18: ='Bud Year 2'!B22 -> 0 | E18: ='Bud Year 2'!C22 -> 0 | H18: =SUM(D18:G18) -> 0
A19: d. | B19: Equipment | D19: ='Bud Year 2'!B26 -> 0 | E19: ='Bud Year 2'!C26 -> 0 | H19: =SUM(D19:G19) -> 0
A20: e. | B20: Supplies | D20: ='Bud Year 2'!B30 -> 0 | E20: ='Bud Year 2'!C30 -> 0 | H20: =SUM(D20:G20) -> 0
A21: f. | B21: Contractual | D21: ='Bud Year 2'!B34 -> 0 | E21: ='Bud Year 2'!C34 -> 0 | H21: =SUM(D21:G21) -> 0
A22: g. | B22: Construction | D22: 0 | E22: 0 | H22: =SUM(D22:G22) -> 0
A23: h. | B23: Other | D23: ='Bud Year 2'!B51 -> 0 | E23: ='Bud Year 2'!C51 -> 0 | H23: =SUM(D23:G23) -> 0
A24: i. | B24: Total Direct Charges (sum of 6a-6h) | D24: =SUM(D16:D23) -> 0 | E24: =SUM(E16:E23) -> 0 | H24: =SUM(D24:G24) -> 0
A25: j. | B25: Indirect Charges | D25: ='Bud Year 2'!B53 -> 0 | E25: ='Bud Year 2'!C53 -> 0 | H25: =SUM(D25:G25) -> 0
A26: k. | B26: TOTALS (sum of 6i and 6j) | D26: =D24+D25 -> 0 | E26: =E24+E25 -> 0 | H26: =SUM(D26:G26) -> 0
A28: 7. | B28: Program Income | H28: =SUM(D28:G28) -> 0
E30: SECTION C - NON-FEDERAL RESOURCES
B31: (a) Grant Program | D31: (b) Applicant | E31: ( c) State | F31: (d) Other Sources | H31: Total
A32: 8. | G32: =SUM(D32:F32) -> 0
A33: 9. | B33: ANA NFS | G33: =SUM(D33:F33) -> 0
A34: 10. | G34: =SUM(D34:F34) -> 0
A35: 11. | G35: =SUM(D35:F35) -> 0
A36: 12. | B36: TOTAL (sum of 8-11) | D36: =SUM(D32:D35) -> 0 | E36: =SUM(E32:E35) -> 0 | F36: =SUM(F32:F35) -> 0 | G36: =SUM(D36:F36) -> 0
E38: SECTION D - FORECASTED CASH NEEDS
D39: Total for 1st Year | E39: 1st Quarter | F39: 2nd Quarter | G39: 3rd Quarter | H39: 4th Quarter
A40: 13. | B40: Federal | D40: ='Bud Year 2'!B54 -> 0 | E40: =D26*0.25 -> 0 | F40: =D26*0.25 -> 0 | G40: =D26*0.25 -> 0 | H40: =D26*0.25 -> 0
A41: 14. | B41: Non-Federal | D41: ='Bud Just 2'!C45 -> 0 | E41: =E26*0.25 -> 0 | F41: =E26*0.25 -> 0 | G41: =E26*0.25 -> 0 | H41: =E26*0.25 -> 0
A42: 15. | B42: TOTAL (sum of lines 13 and 14) | D42: =SUM(D40:D41) -> 0 | E42: =SUM(E40:E41) -> 0 | F42: =SUM(F40:F41) -> 0 | G42: =SUM(G40:G41) -> 0 | H42: =SUM(H40:H41) -> 0
C44: SECTION E - BUGET ESTIMATES OF FEDERAL FUNDS NEEDED FOR BALANCE OF THE PROJECT
B45: (a) Grant Program | F45: FUTURE FUNDING PERIODS (YEARS)
...

Sheet SF 424A Year 3
E1: BUDGET INFORMATION - Non-Construction Programs
E2: SECTION A - BUDGET SUMMARY
B3: Grant Program Function or Activity | C3: Catalog of Federal Domestic Assistance | D3: Estimated Unobligated Funds | F3: New or Revised Budget
C4: Number | D4: Federal | E4: Non-Federal | F4: Federal | G4: Non-Federal | H4: Total
B5: (a) | C5: (b) | D5: ( c) | E5: (d) | F5: ( e) | G5: (f) | H5: (g)
A6: 1. | B6: ANA | F6: ='Bud Year 3'!B54 -> 0 | H6: =SUM(D6:G6) -> 0
A7: 2. | G7: ='Bud Year 3'!C54 -> 0 | H7: =SUM(D7:G7) -> 0
A8: 3. | H8: =SUM(D8:G8) -> 0
A9: 4. | H9: =SUM(D9:G9) -> 0
A10: 5. | B10: Totals | D10: =SUM(D6:D9) -> 0 | E10: =SUM(E6:E9) -> 0 | F10: =SUM(F6:F9) -> 0 | G10: =SUM(G6:G9) -> 0 | H10: =SUM(D10:G10) -> 0
E12: SECTION B - BUDGET CATEGORIES
E13: GRANT PROGRAM, FUNCTION OR ACTIVITY
A14: 6. | B14: Object Class Categories | D14: Federal | E14: Non-Federal | H14: Total
D15: (1) | E15: (2) | F15: (3) | G15: (4) | H15: (5)
A16: a. | B16: Personnel | D16: ='Bud Year 3'!B9 -> 0 | E16: ='Bud Year 3'!C9 -> 0 | H16: =SUM(D16:G16) -> 0
A17: b. | B17: Fringe Benefits | D17: ='Bud Year 3'!B17 -> 0 | E17: ='Bud Year 3'!C17 -> 0 | H17: =SUM(D17:G17) -> 0
A18: c. | B18: Travel | D18: ='Bud Year 3'!B22 -> 0 | E18: ='Bud Year 3'!C22 -> 0 | H18: =SUM(D18:G18) -> 0
A19: d. | B19: Equipment | D19: ='Bud Year 3'!B26 -> 0 | E19: ='Bud Year 3'!C26 -> 0 | H19: =SUM(D19:G19) -> 0
A20: e. | B20: Supplies | D20: ='Bud Year 3'!B30 -> 0 | E20: ='Bud Year 3'!C30 -> 0 | H20: =SUM(D20:G20) -> 0
A21: f. | B21: Contractual | D21: ='Bud Year 3'!B34 -> 0 | E21: ='Bud Year 3'!C34 -> 0 | H21: =SUM(D21:G21) -> 0
A22: g. | B22: Construction | D22: 0 | E22: 0 | H22: =SUM(D22:G22) -> 0
A23: h. | B23: Other | D23: ='Bud Year 3'!B51 -> 0 | E23: ='Bud Year 3'!C51 -> 0 | H23: =SUM(D23:G23) -> 0
A24: i. | B24: Total Direct Charges (sum of 6a-6h) | D24: =SUM(D16:D23) -> 0 | E24: =SUM(E16:E23) -> 0 | H24: =SUM(D24:G24) -> 0
A25: j. | B25: Indirect Charges | D25: ='Bud Year 3'!B53 -> 0 | E25: ='Bud Year 3'!C53 -> 0 | H25: =SUM(D25:G25) -> 0
A26: k. | B26: TOTALS (sum of 6i and 6j) | D26: =D24+D25 -> 0 | E26: =E24+E25 -> 0 | H26: =SUM(D26:G26) -> 0
A28: 7. | B28: Program Income | H28: =SUM(D28:G28) -> 0
E30: SECTION C - NON-FEDERAL RESOURCES
B31: (a) Grant Program | D31: (b) Applicant | E31: ( c) State | F31: (d) Other Sources | H31: Total
A32: 8. | G32: =SUM(D32:F32) -> 0
A33: 9. | B33: ANA NFS | G33: =SUM(D33:F33) -> 0
A34: 10. | G34: =SUM(D34:F34) -> 0
A35: 11. | G35: =SUM(D35:F35) -> 0
A36: 12. | B36: TOTAL (sum of 8-11) | D36: =SUM(D32:D35) -> 0 | E36: =SUM(E32:E35) -> 0 | F36: =SUM(F32:F35) -> 0 | G36: =SUM(D36:F36) -> 0
E38: SECTION D - FORECASTED CASH NEEDS
D39: Total for 1st Year | E39: 1st Quarter | F39: 2nd Quarter | G39: 3rd Quarter | H39: 4th Quarter
A40: 13. | B40: Federal | D40: ='Bud Year 3'!B54 -> 0 | E40: =D26*0.25 -> 0 | F40: =D26*0.25 -> 0 | G40: =D26*0.25 -> 0 | H40: =D26*0.25 -> 0
A41: 14. | B41: Non-Federal | D41: ='Bud Year 3'!C54 -> 0 | E41: =E26*0.25 -> 0 | F41: =E26*0.25 -> 0 | G41: =E26*0.25 -> 0 | H41: =E26*0.25 -> 0
A42: 15. | B42: TOTAL (sum of lines 13 and 14) | D42: =SUM(D40:D41) -> 0 | E42: =SUM(E40:E41) -> 0 | F42: =SUM(F40:F41) -> 0 | G42: =SUM(G40:G41) -> 0 | H42: =SUM(H40:H41) -> 0
C44: SECTION E - BUGET ESTIMATES OF FEDERAL FUNDS NEEDED FOR BALANCE OF THE PROJECT
B45: (a) Grant Program | F45: FUTURE FUNDING PERIODS (YEARS)
...

Sheet SF 424A Year 4
E1: BUDGET INFORMATION - Non-Construction Programs
E2: SECTION A - BUDGET SUMMARY
B3: Grant Program Function or Activity | C3: Catalog of Federal Domestic Assistance | D3: Estimated Unobligated Funds | F3: New or Revised Budget
C4: Number | D4: Federal | E4: Non-Federal | F4: Federal | G4: Non-Federal | H4: Total
B5: (a) | C5: (b) | D5: ( c) | E5: (d) | F5: ( e) | G5: (f) | H5: (g)
A6: 1. | B6: ANA | F6: ='Bud Year 4'!B54 -> 0 | H6: =SUM(D6:G6) -> 0
A7: 2. | G7: ='Bud Year 4'!C54 -> 0 | H7: =SUM(D7:G7) -> 0
A8: 3. | H8: =SUM(D8:G8) -> 0
A9: 4. | H9: =SUM(D9:G9) -> 0
A10: 5. | B10: Totals | D10: =SUM(D6:D9) -> 0 | E10: =SUM(E6:E9) -> 0 | F10: =SUM(F6:F9) -> 0 | G10: =SUM(G6:G9) -> 0 | H10: =SUM(D10:G10) -> 0
E12: SECTION B - BUDGET CATEGORIES
E13: GRANT PROGRAM, FUNCTION OR ACTIVITY
A14: 6. | B14: Object Class Categories | D14: Federal | E14: Non-Federal | H14: Total
D15: (1) | E15: (2) | F15: (3) | G15: (4) | H15: (5)
A16: a. | B16: Personnel | D16: ='Bud Year 4'!B9 -> 0 | E16: ='Bud Year 4'!C9 -> 0 | H16: =SUM(D16:G16) -> 0
A17: b. | B17: Fringe Benefits | D17: ='Bud Year 4'!B17 -> 0 | E17: ='Bud Year 4'!C17 -> 0 | H17: =SUM(D17:G17) -> 0
A18: c. | B18: Travel | D18: ='Bud Year 4'!B22 -> 0 | E18: ='Bud Year 4'!C22 -> 0 | H18: =SUM(D18:G18) -> 0
A19: d. | B19: Equipment | D19: ='Bud Year 4'!B26 -> 0 | E19: ='Bud Year 4'!C26 -> 0 | H19: =SUM(D19:G19) -> 0
A20: e. | B20: Supplies | D20: ='Bud Year 4'!B30 -> 0 | E20: ='Bud Year 4'!C30 -> 0 | H20: =SUM(D20:G20) -> 0
A21: f. | B21: Contractual | D21: ='Bud Year 4'!B34 -> 0 | E21: ='Bud Year 4'!C34 -> 0 | H21: =SUM(D21:G21) -> 0
A22: g. | B22: Construction | D22: 0 | E22: 0 | H22: =SUM(D22:G22) -> 0
A23: h. | B23: Other | D23: ='Bud Year 4'!B51 -> 0 | E23: ='Bud Year 4'!C51 -> 0 | H23: =SUM(D23:G23) -> 0
A24: i. | B24: Total Direct Charges (sum of 6a-6h) | D24: =SUM(D16:D23) -> 0 | E24: =SUM(E16:E23) -> 0 | H24: =SUM(D24:G24) -> 0
A25: j. | B25: Indirect Charges | D25: ='Bud Year 4'!B53 -> 0 | E25: ='Bud Year 4'!C53 -> 0 | H25: =SUM(D25:G25) -> 0
A26: k. | B26: TOTALS (sum of 6i and 6j) | D26: =D24+D25 -> 0 | E26: =E24+E25 -> 0 | H26: =SUM(D26:G26) -> 0
A28: 7. | B28: Program Income | H28: =SUM(D28:G28) -> 0
E30: SECTION C - NON-FEDERAL RESOURCES
B31: (a) Grant Program | D31: (b) Applicant | E31: ( c) State | F31: (d) Other Sources | H31: Total
A32: 8.
A33: 9. | B33: ANA NFS | H33: =SUM(D32:H32) -> 0
A34: 10. | H34: =SUM(D33:H33) -> 0
A35: 11. | H35: =SUM(D34:H34) -> 0
A36: 12. | B36: TOTAL (sum of 8-11) | D36: =SUM(D32:D35) -> 0 | E36: =SUM(E32:E35) -> 0 | F36: =SUM(F32:F35) -> 0 | H36: =SUM(D36:G36) -> 0
E38: SECTION D - FORECASTED CASH NEEDS
D39: Total for 1st Year | E39: 1st Quarter | F39: 2nd Quarter | G39: 3rd Quarter | H39: 4th Quarter
A40: 13. | B40: Federal | D40: ='Bud Year 4'!B54 -> 0 | E40: =D26*0.25 -> 0 | F40: =D26*0.25 -> 0 | G40: =D26*0.25 -> 0 | H40: =D26*0.25 -> 0
A41: 14. | B41: Non-Federal | D41: ='Bud Year 4'!C54 -> 0 | E41: =E26*0.25 -> 0 | F41: =E26*0.25 -> 0 | G41: =E26*0.25 -> 0 | H41: =E26*0.25 -> 0
A42: 15. | B42: TOTAL (sum of lines 13 and 14) | D42: =SUM(D40:D41) -> 0 | E42: =SUM(E40:E41) -> 0 | F42: =SUM(F40:F41) -> 0 | G42: =SUM(G40:G41) -> 0 | H42: =SUM(H40:H41) -> 0
C44: SECTION E - BUGET ESTIMATES OF FEDERAL FUNDS NEEDED FOR BALANCE OF THE PROJECT
B45: (a) Grant Program | F45: FUTURE FUNDING PERIODS (YEARS)
...

Sheet SF 424A Year 5
E1: BUDGET INFORMATION - Non-Construction Programs
E2: SECTION A - BUDGET SUMMARY
B3: Grant Program Function or Activity | C3: Catalog of Federal Domestic Assistance | D3: Estimated Unobligated Funds | F3: New or Revised Budget
C4: Number | D4: Federal | E4: Non-Federal | F4: Federal | G4: Non-Federal | H4: Total
B5: (a) | C5: (b) | D5: ( c) | E5: (d) | F5: ( e) | G5: (f) | H5: (g)
A6: 1. | B6: ANA | F6: ='Bud Year 5'!B54 -> 0 | H6: =SUM(D6:G6) -> 0
A7: 2. | G7: ='Bud Year 5'!C54 -> 0 | H7: =SUM(D7:G7) -> 0
A8: 3. | H8: =SUM(D8:G8) -> 0
A9: 4. | H9: =SUM(D9:G9) -> 0
A10: 5. | B10: Totals | D10: =SUM(D6:D9) -> 0 | E10: =SUM(E6:E9) -> 0 | F10: =SUM(F6:F9) -> 0 | G10: =SUM(G6:G9) -> 0 | H10: =SUM(D10:G10) -> 0
E12: SECTION B - BUDGET CATEGORIES
E13: GRANT PROGRAM, FUNCTION OR ACTIVITY
A14: 6. | B14: Object Class Categories | D14: Federal | E14: Non-Federal | H14: Total
D15: (1) | E15: (2) | F15: (3) | G15: (4) | H15: (5)
A16: a. | B16: Personnel | D16: ='Bud Year 5'!B9 -> 0 | E16: ='Bud Year 5'!C9 -> 0 | H16: =SUM(D16:G16) -> 0
A17: b. | B17: Fringe Benefits | D17: ='Bud Year 5'!B17 -> 0 | E17: ='Bud Year 5'!C17 -> 0 | H17: =SUM(D17:G17) -> 0
A18: c. | B18: Travel | D18: ='Bud Year 5'!B22 -> 0 | E18: ='Bud Year 5'!C22 -> 0 | H18: =SUM(D18:G18) -> 0
